Workbook
Name Name_of_the_product1: #REF!
Name Name_of_the_product1: 'Combined Report'!$C$12
Name Name_of_the_product10: #REF!
Name Name_of_the_product10: 'Combined Report'!#REF!
Name Name_of_the_product11: #REF!
Name Name_of_the_product11: #REF!
Name Name_of_the_product12: #REF!
Name Name_of_the_product12: #REF!
Name Name_of_the_product13: #REF!
Name Name_of_the_product13: #REF!
Name Name_of_the_product14: #REF!
Name Name_of_the_product14: #REF!
Name Name_of_the_product15: #REF!
Name Name_of_the_product15: #REF!
Name Name_of_the_product16: #REF!
Name Name_of_the_product16: #REF!
Name Name_of_the_product17: #REF!
Name Name_of_the_product17: #REF!
Name Name_of_the_product18: #REF!
Name Name_of_the_product18: #REF!
Name Name_of_the_product19: #REF!
Name Name_of_the_product19: #REF!
Name Name_of_the_product2: #REF!
Name Name_of_the_product2: 'Combined Report'!#REF!
Name Name_of_the_product20: #REF!
Name Name_of_the_product20: #REF!
Name Name_of_the_product3: #REF!
Name Name_of_the_product3: 'Combined Report'!#REF!
Name Name_of_the_product4: #REF!
Name Name_of_the_product4: 'Combined Report'!#REF!
Name Name_of_the_product5: #REF!
Name Name_of_the_product5: 'Combined Report'!#REF!
Name Name_of_the_product6: #REF!
Name Name_of_the_product6: 'Combined Report'!#REF!
Name Name_of_the_product7: #REF!
Name Name_of_the_product7: 'Combined Report'!#REF!
Name Name_of_the_product8: #REF!
Name Name_of_the_product8: 'Combined Report'!#REF!
Name Name_of_the_product9: #REF!
Name Name_of_the_product9: 'Combined Report'!#REF!
Name Production_plant__where_sampling_takes_place: #REF!
Name Production_plant__where_sampling_takes_place: 'Combined Report'!$C$9
Name samling2: #REF!
Name samling2: #REF!
Name Sampling_report_2: #REF!
Name Sampling_report_2: #REF!
Name sampling10: #REF!
Name sampling10: #REF!
Name sampling11: #REF!
Name sampling11: #REF!
Name sampling4: #REF!
Name sampling4: #REF!
Name sampling5: #REF!
Name sampling5: #REF!
Name sampling6: #REF!
Name sampling6: #REF!
Name sampling7: #REF!
Name sampling7: #REF!
Name sampling8: #REF!
Name sampling8: #REF!

Sheet Introduction
B4: Dear Customer
B5: Please fill out the Order form and Combined Report that you find in this excel sheet. You can navigate between the documents in the bottom of the window.
B8: The Order form and Combined Report should be printed and attached to the package along with the signed quotation, SDS, and TDS of the product, and also be sent to DK-CS@cpt.eurofinseu.com.
B9: If a cell has a red corner like this cell does, it means that it is either mandatory to fill out, or that there is a description of the term. Please hover over the red corner to read the description.
B10: Automatically filled out cells in the Combined Report
B11: The Combined Report is a report combining the Sampling Report and the Chain of Custody. This must be filled out, as this gives us crucial information that is mandatory for our VOC emission tests.
B12: Some fields in the Combined Report will automatically be filled out based on the information you have provided in the Order form.
B13: If this information needs to be changed in the Combined Report, you simply have to click on the field and write the new information. This is not possible for all cells.
B14: In the Combined Report some fields are filled with a light-red color. This is to indicate that you need to fill in information in these. As soon as you fill in information, the color will disapear.
B15: Procedure
B16: 1| Fill out the Order Form
B17: 2| Fill out the Combined Report
... B30: If you have any questions or comments, do not hesitate to contact us via e-mail
B31: DK-CS@cpt.eurofinseu.com | C31: or by phone: +45 70 22 42 76 (CET: 8:00-16:00)
B32: Kind regards, Customer Support

Sheet Order form
F1: This document must be printed and shipped with the sample.
A2: Client | C2: Report to be sent to | E2: IInvoice to be sent to | F2: Copy of report to be sent to
A3: Company telephone
A4: Company
A5: Address
A6: Postcode & town
A7: Country
A8: Contact person
A9: Direct telephone no.
A10: E-mail (for PDF)
A11: Invoicing E-mail
A12: VAT no. (in EU)
A13: Purchase order (PO)
A14: Comments
A16: Eurofins Quotation number (+ selected section)
A17: Eurofins contact | E17: Reporting language | F17: English (Press for options)
A19: Product name (to be stated in the report)
A20: Batch-No | D20: Product type | F20: Press for options
A21: Production date | B21: (dd/mm/yyyy) | D21: Mixing ratio, A:B (weight/weight) | F21: a:b
A22: The sample contains:
A24: Required fields for VOC emission testing in Chamber:
A25: Worst-case application amount per layer in [g/m2] as in the TDS** | E25: Number of layers
E26: Drying time between layers
A27: Loading scenario [m2/m3] as per intended worst-case product use; | C27: Press for options | E27: Solid content [volume/volume%]
A28: Spreading rate [m2/L] | E28: Density [g/L]
A30: Required fields for VOC content testing (ASTM D2369 and ISO 11890 -1 or -2)
A31: Water content [g/L] | E31: Density [g/L] | F31: =IF(F28="","",F28)
A32: Solid content (drop-down) | C32: Press for options | E32: Base (drop-down) | F32: Press for options
A33: Product type (please select from drop-down menu from the appropriate group)
A34: SCAQMD rule 1113 (choose one only) | E34: Decopaint (choose one only)
A35: Paints and coatings | C35: Primers, sealers, and lacquers | E35: Paint, coating, and primers | F35: Vehicle refinishing products

Sheet Combined Report
G1: This document must be printed and shipped with the sample.
B2: Combined Sampling Report and Chain of Custody
B3: Name of applicant: | D3: =IF('Order form'!C4=""," ",CONCATENATE('Order form'!C8,", ",'Order form'!C4,", ",'Order form'!C5,", ",'Order form'!C6,", ",'Order form'!C7,", ",'Order form'!C3))
B4: (name, company, phone)
B5: Product information
B6: Name of the product: | C6: =IF('Order form'!D19=""," ",'Order form'!D19) | E6: Product type | F6: =IF('Order form'!F20=""," ",IF('Order form'!F20="Press for options"," ",'Order form'!F20))
B7: Batch N°: | C7: =IF('Order form'!B20=""," ",'Order form'!B20) | E7: Article N°:
B8: Model / Program / Series: | E8: Manufacture: | F8: =IF('Order form'!C4=""," ",CONCATENATE('Order form'!C4,", ",'Order form'!C5,", ",'Order form'!C6,", ",'Order form'!C7))
E9: (Company, Address, Stamp)
B10: Production & Sampling information
B11: Production Date : | C11: =IF('Order form'!B21=""," ",'Order form'!B21) -> (dd/mm/yyyy) | E11: Sampling Date: | F11: (dd/mm/yyyy)
B12: Time: | E12: Time:
B13: Place of sampling | E13: Sample is taken from: | F13: l | G13: ongoing production
B14: (if deviating from the manufature) | F14: l | G14: stocks
F15: l | G15: retained sample
E16: Number of samples:
B17: Person in charge of sampling: | E17: Signature of sample collector:
B18: (Name, company, telephone) | E18: l
B19: Where has the product been stored prior to sampling? | C19: l | D19: production | E19: How has the product been stored prior to sampling? | F19: l | G19: open
C20: l | D20: store | F20: l | G20: in the stack
C21: l | D21: miscellaneous | F21: l | G21: wrapped up
B22: Place of storage: | E22: Packing material:
B23: Specifics (possible negative influences by air contamination where sample was taken, by petrol emissions, by solvent emissions from production; any other uncertainties, questions, etc).
B24: Cut edges (identification of cut edges when present and identification of new surfaces and surface to be exposed in the emission test):
B26: Confirmation from the applicant
B27: Herewith the signer confirms the correctness of the data given above. The sample was selected, drawn and packed personally in accordance with the instructions for the taking of samples.
B28: Date: | C28: Signature:
C29: (Stamp)
C30: Chain of Custody | G30: What is a Chain of custody?
B31: Whenever the sample is handed over, please fill out the below information
B32: Handed over between: | C32: Initials + Signature | E32: Date + Time | G32: Condition
B33: Handed over by
B34: Handed over to
B36: Handed over by
B37: Handed over to
B39: Handed over by
B40: Handed over to
B42: Laboratory receiving details (date, condition of package and sample, assigned lab no.):
B43: Receptionist, Eurofins Product Testing A/S: | E43: Signature of receptionist:

Sheet Supporting Information
A2: Customer information
A3: In the order form we ask for some information on you and your company. This information is essential to make sure that the correct information about you company is stated in the report, the correct tests are booked and that the correct person(s) receive the order confirmation, report, and invoice.
A4: Report receiver: The company and address here will be used in the report. The order confirmation and report will be sent as PDF to the e-mail written here. When the report is issued the company and address in the report canont be changed as according to our ISO 17025 accreditation. Therefore it is important that this is correct.
A5: Invoice receiver: The invoice will be sent as PDF to the e-mail address written here. If nothing is stated in this colunm, we will send the invoice to the email that is given for the report receiver.
A6: Copy of report to be sent to: If relevant, the report will be sent as PDF to the e-mail written here.
A7: Purchase order (PO): If you have a PO number that should be referred to in our invoice, please state it here. Please also send the PO to CDK003-ProductionPlanning@cpt.eurofinseu.com
A8: The Eurofins Quotation number: Always fill in the quotation number and specify which section to be considered, if not all sections.
A9: VAT number: Will only be required if this has not already been communicated to Eurofins earlier.
A10: Product data
A11: Product name: The name that will be stated in the report. When the report is issued this canont be changed as according to our ISO 17025 accreditation. Therefore it is important that this is correct.
A12: Batch-No: The batch number of the product. It will be stated in the report.
A13: Product type: Please choose the product type of the product among the predefined product types.
... A15: Mixing ratio: If the product needs to be mixed with water or another component please state it here as A : B.
B16: STANDARD | C16: WHEN TO SAMPLE? | D16: TIME FROM SAMPLING TO RECEPTION AT Eurofins | E16: MAX AGE AT TEST
B17: ISO 16000 | C17: Not specified
B18: Indoor Air Comfort | C18: As soon as possible | D18: 14 days after sampling | E18: 4 months
B19: French VOC | C19: - | D19: - | E19: Before expiration date
B20: AgBB and DIBt | C20: As soon as possible | D20: 14 days after sampling | E20: 4 months
B21: M1 | C21: As soon as possible | D21: 14 days after sampling | E21: Before expiration date should be valid over entire test period
B22: CDPH Section 01350 | C22: As soon as possible | D22: Shipment max 3 months after production | E22: 4 months after production date
B23: EMICODE | C23: As soon as possible | D23: 14 days after sampling | E23: 4 months
B24: Belgian VOC | C24: As soon as possible | D24: 14 days after sampling | E24: 4 months
B25: Italian CAM | C25: As soon as possible | D25: 14 days after sampling | E25: 4 months
B26: EN 16516 | C26: As soon as possible | D26: 14 days after sampling | E26: 4 months
B27: Blue Angel | C27: as soon as possible | E27: 4 months
A29: Combined Report: Always fill out and include the Combined report when shipping the sample for testing.
B30: What is the Combined report? The Combined report is a combination of the Sampling report and the Chain of Custody. For most of the VOC emission test standard/regulation this document is mandatory and is also our indicator on whether the sample complies with the defined time spots defined in the above table. It includes all the information each of the documents requires.
A32: Technical information
A33: Loading scenario: The loading scenario or loading factor indicates the surface on which the product is applied. The loading scenarios defined in EN 16516 are wall (1.0 m2/m3), floor/ceiling (0.4 m2/m3), small area (0.05 m2/m3) and very small area (0.007 m2/m3). Some standards allow a combination of wall and ceiling/floor (1.4 m2/m3) for certain product types. If the product can be used on multiple surfaces the ‘worst case’ or simply the biggest loading scenario should be used.
A34: Please note that some standards/regulations have specified which loading scenarios are allowed for which product types.
B35: What is the loading scenario? This definition is based on the European reference room from EN 16516. The loading scenario ‘wall’ is equal to the surface/volume ratio 1.0 m2/m3. So when we perform the test in the emission chambers, we will expose a surface of the product yielding the surface/volume ratio of 1.0 m2/m3 relative to the volume of the chamber. This would reassemble a situation where all the walls in the European reference room are covered with the specific product.
A36: Application amount: This should be the max. Application as described in the TDS for the product. Please note that some standards have some defined criteria of how much must be applied.
A37: Number of layers: The amount of layers that the customer is encouraged to apply.
A38: Drying time: The number of hours that must pass between the layers. Please note, that we cannot meet all drying times due to working hours. This means that drying times between 8 and 18 hours is This means that drying times between 8 and 18 hours is not possible and we kindly ask you to state hours that are not within this range.
A39: Solid content - VOC CONTENT: In order to use the appropriate method for VOC content testing, we need to know whether the solid content for the ready-to-use product is below or above 90%
A40: Solid content - VOC EMISSION: The solid content of the product given a volume/volume % needs to be filled in as some standards have requirements on either the solid content when testing the sample or then the information is used to calculate the application amount for the French VOC regulation and ISO 16000
A41: Spreading rate: The surface in m2 that one liter of the product covers.
A42: Density: The density of the product given in g/L. This information is often stated in the SDS as well.
A43: Water content: The water content in the ready-to-use product in g/L.
A44: Base: In order to use the appropriate methode for VOC content testing, we need to know whether the product is water- or solvent based.
...

Sheet Filmtykkelses beregning
A1: solid content: | B1: Spreading rate: | C1: δm | D1: Column1 | E1: Column2 | F1: Column3 | G1: Column4 | H1: Filmtykkelse: | I1: Densitet: | J1: Application beregnet (g/m2):
A2: ='Order form'!F27 -> 0 | B2: ='Order form'!C28 -> 0 | C2: =IF(AND(ISNUMBER(A2),ISNUMBER(B2)),IF(B2<>0,A2/B2*10,""),"") | D2: =IF(C2<5,5,) -> 0 | E2: =IF(AND(C2>5,C2<20),15,) -> 0 | F2: =IF(AND(C2>20,C2<60),40,) -> 0 | G2: =IF(C2>60,60) -> 60 | H2: =SUM(D2:G2) -> 60 | I2: ='Order form'!F28 -> 0 | J2: =IF(AND(ISNUMBER(A2),ISNUMBER(H2),ISNUMBER(I2)),IF(A2<>0, (H2*I2*100)/A2,""),"")

Sheet Data
A1: Loading scenario | B1: Product type - emission | C1: 1113 | E1: decopaint | H1: TEST: | J1: ALL THE SAME AS ABOVE | N1: Press for options
A2: Press for options | B2: Press for options | C2: Paint and coatings | D2: primers, sealers and lacquers | E2: Paint coating and primers | F2: Vehicle refinishing products | I2: Comlims code | J2: EMISSION-TESTING | K2: English (Press for options) | N2: Below 90%
A3: Sealant (0.007) | B3: Coating (not for floors) | C3: Building Envelope Coating | D3: Clear shellac | E3: Binding primers | F3: Bodyfiller/stopper | H3: Indoor Air Comfort EU® | I3: PAWDB | J3: =CONCATENATE(I3, " | ",H3) -> PAWDB | Indoor Air Comfort EU® | K3: German | N3: Above 90%
A4: Small area (0.05) | B4: Floor coating | C4: Clear Topcoat | D4: Lacquer | E4: Decorative effect coatings | F4: Prepraratory and cleaning | H4: Indoor Air Comfort GOLD® | I4: PAWA1 | J4: =CONCATENATE(I4, " | ",H4) -> PAWA1 | Indoor Air Comfort GOLD® | K4: French | N4: Press for options
A5: Ceiling / floor (0.4) | B5: Oil for mineral floor | C5: Color Indicating Safety Coatings | D5: Pigmented shellac | E5: Exterior walls of mineral substrate | F5: Primer | H5: AgBB, 3 + 28 days | I5: PAWA2 | J5: =CONCATENATE(I5, " | ",H5) -> PAWA2 | AgBB, 3 + 28 days | K5: Several, as defined in Quotation | N5: Water based
A6: Wall (1.0) | B6: Oil for parquet | C6: Decorative Coatings | D6: Pre-Treatment Wash Primers | E6: Interior and exterior minimal build woodstains | F6: Special finishes | H6: AgBB/DiBt (NIK 2018), 3 + 28 days | I6: PAW6C | J6: =CONCATENATE(I6, " | ",H6) -> PAW6C | AgBB/DiBt (NIK 2018), 3 + 28 days | N6: Solvent based
A7: Wall + ceiling / floor (1.4) | B7: Paint, solvent based | C7: Dry-Fog Coatings | D7: Primers, Sealers, and Undercoaters | E7: Interior glossy walls and ceilings (Gloss > 25@60°) | F7: Topcoat | H7: EMICODE | I7: PAWA5 | J7: =CONCATENATE(I7, " | ",H7) -> PAWA5 | EMICODE
A8: Wall + ceiling + floor (1.8) | B8: Paint, water based | C8: Fire-Proofing Coatings | D8: Sanding Sealers | E8: Interior matt walls and ceilings (Gloss < 25@60°) | H8: Belgian Regulation | I8: PAWAA | J8: =CONCATENATE(I8, " | ",H8) -> PAWAA | Belgian Regulation
B9: Parquet coating | C9: Flats (coats) | D9: Specialty Primers | E9: Interior/exterior trim and cladding paints for wood and metal | H9: M1 | I9: PAWF5 | J9: =CONCATENATE(I9, " | ",H9) -> PAWF5 | M1
B10: Primer, solvent based (under paint/coating) | C10: Floor Coatings | D10: Stains | E10: Interior/exterior trim varnishes and woodstains, including opaque woodstains | H10: M1 – additional to any 28 day test | I10: PAWG4 | J10: =CONCATENATE(I10, " | ",H10) -> PAWG4 | M1 – additional to any 28 day test
B11: Primer, water based (under adhesive) | C11: Glazes | D11: Stains, Interior | E11: Multi-coloured coatings | H11: French VOC label, 28 days | I11: PAWF6 | J11: =CONCATENATE(I11, " | ",H11) -> PAWF6 | French VOC label, 28 days
B12: Primer, water based (under paint/coating) | C12: High Temperature IM Coatings | D12: Tile and Stone Sealers | E12: One-pack performance coatings | H12: French VOC label + CMR, 28 days | I12: PAWJP | J12: =CONCATENATE(I12, " | ",H12) -> PAWJP | French VOC label + CMR, 28 days
B13: Primer,solvent based (under adhesive) | C13: Industrial Maintenance (IM) Coatings | D13: Varnish | E13: Primers | H13: French VOC label, 3 + 28 days | I13: PAW8T | J13: =CONCATENATE(I13, " | ",H13) -> PAW8T | French VOC label, 3 + 28 days
B14: PU coating | C14: Japan coating | D14: Waterproofing Concrete/Masonry Sealers | E14: Two-pack reactive performance coatings for specific end use such as floors | H14: French VOC label + CMR, 3 + 28 days | I14: PAWQ6 | J14: =CONCATENATE(I14, " | ",H14) -> PAWQ6 | French VOC label + CMR, 3 + 28 days
B15: PVC coating | C15: Magnesite Cement Coatings | D15: Waterproofing Sealers | H15: Italian CAM | I15: PAWID | J15: =CONCATENATE(I15, " | ",H15) -> PAWID | Italian CAM
B16: Varnish, solvent based | C16: Mastic Coatings | D16: Wood Conditioners | H16: Additional testing of 10 largest components for French VOC | I16: AWV99 | J16: =CONCATENATE(I16, " | ",H16) -> AWV99 | Additional testing of 10 largest components for French VOC
B17: Varnish, water based | C17: Metallic Pigmented Coatings | D17: Zinc-Rich IM Primers | H17: CDPH Section 01350 | I17: PAWE7 | J17: =CONCATENATE(I17, " | ",H17) -> PAWE7 | CDPH Section 01350
C18: Multi-Color Coatings | H18: CDPH Section 01350 – additional to any 28 day test | I18: PAWG5 | J18: =CONCATENATE(I18, " | ",H18) -> PAWG5 | CDPH Section 01350 – additional to any 28 day test
C19: Nonflat Coatings | H19: ISO 16000, 3 + 28 days, VOC + aldehydes | I19: PAWB5 | J19: =CONCATENATE(I19, " | ",H19) -> PAWB5 | ISO 16000, 3 + 28 days, VOC + aldehydes
C20: Non-Sacrificial Anti-Graffiti Coatings | H20: ISO 16000, 28 days, VOC + aldehydes | I20: PAWKG | J20: =CONCATENATE(I20, " | ",H20) -> PAWKG | ISO 16000, 28 days, VOC + aldehydes
C21: Recycled Coatings | H21: ISO 16000, 3 days, VOC + aldehydes | I21: PAWB6 | J21: =CONCATENATE(I21, " | ",H21) -> PAWB6 | ISO 16000, 3 days, VOC + aldehydes
C22: Rust Preventative Coatings | H22: ISO 16000, 3 + 28 days, VOC | I22: PAWW3 | J22: =CONCATENATE(I22, " | ",H22) -> PAWW3 | ISO 16000, 3 + 28 days, VOC
C23: Trowel Applied Coatings | H23: ISO 16000, 28 days, VOC | I23: PAWDF | J23: =CONCATENATE(I23, " | ",H23) -> PAWDF | ISO 16000, 28 days, VOC
C24: Wood Coatings | H24: ISO 16000, 3 days, VOC | I24: PAWB9 | J24: =CONCATENATE(I24, " | ",H24) -> PAWB9 | ISO 16000, 3 days, VOC
H25: ISO 16000, 3 + 28 days, formaldehyde | I25: PAWB8 | J25: =CONCATENATE(I25, " | ",H25) -> PAWB8 | ISO 16000, 3 + 28 days, formaldehyde
H26: ISO 16000, 28 days, formaldehyde | I26: PAWSH | J26: =CONCATENATE(I26, " | ",H26) -> PAWSH | ISO 16000, 28 days, formaldehyde
H27: ISO 16000, 3 days, formaldehyde | I27: PAWB7 | J27: =CONCATENATE(I27, " | ",H27) -> PAWB7 | ISO 16000, 3 days, formaldehyde
H28: EN 16516, 3 + 28 days, VOC + aldehydes | I28: PAW5U | J28: =CONCATENATE(I28, " | ",H28) -> PAW5U | EN 16516, 3 + 28 days, VOC + aldehydes
H29: EN 16516, 3 days, VOC + aldehydes | I29: PAW5W | J29: =CONCATENATE(I29, " | ",H29) -> PAW5W | EN 16516, 3 days, VOC + aldehydes
H30: EN 16516, 28 days, VOC + aldehydes | I30: PAW6W | J30: =CONCATENATE(I30, " | ",H30) -> PAW6W | EN 16516, 28 days, VOC + aldehydes
H31: EN 16516, 28 days, formaldehyde | I31: PAWAR | J31: =CONCATENATE(I31, " | ",H31) -> PAWAR | EN 16516, 28 days, formaldehyde
H32: EN 16516, 3 days, VOC | I32: PAWDB | J32: =CONCATENATE(I32, " | ",H32) -> PAWDB | EN 16516, 3 days, VOC
H33: EN 16516, 28 days, VOC | I33: PAW6J | J33: =CONCATENATE(I33, " | ",H33) -> PAW6J | EN 16516, 28 days, VOC
H34: EN 16516, 3 + 28 days, VOC | I34: PAWJN | J34: =CONCATENATE(I34, " | ",H34) -> PAWJN | EN 16516, 3 + 28 days, VOC
H35: EN 13999, 3 + 10 days | I35: PAWE6 | J35: =CONCATENATE(I35, " | ",H35) -> PAWE6 | EN 13999, 3 + 10 days
H36: Blue Angel DE-UZ 113 | I36: PAWC4 | J36: =CONCATENATE(I36, " | ",H36) -> PAWC4 | Blue Angel DE-UZ 113
H37: Cradle to Cradle | I37: PAWE9 | J37: =CONCATENATE(I37, " | ",H37) -> PAWE9 | Cradle to Cradle
J38: ____________________
H39: VOC Specialty Emission Tests | I39: Comlims code | J39: VOC SPECIALTY EMISSION TEST
H40: Microchamber, aldehydes | I40: PAW1S | J40: =CONCATENATE(I40, " | ",H40) -> PAW1S | Microchamber, aldehydes
...
