Workbook
Name Name_of_the_product1: 'Combined Report'!$C$12
Name Name_of_the_product1: #REF!
Name Name_of_the_product1: #REF!
Name Name_of_the_product10: 'Combined Report'!#REF!
Name Name_of_the_product10: '[1]Combined Report'!#REF!
Name Name_of_the_product10: #REF!
Name Name_of_the_product10: #REF!
Name Name_of_the_product11: #REF!
Name Name_of_the_product11: #REF!
Name Name_of_the_product11: #REF!
Name Name_of_the_product11: #REF!
Name Name_of_the_product12: #REF!
Name Name_of_the_product12: #REF!
Name Name_of_the_product13: #REF!
Name Name_of_the_product13: #REF!
Name Name_of_the_product14: #REF!
Name Name_of_the_product14: #REF!
Name Name_of_the_product15: #REF!
Name Name_of_the_product15: #REF!
Name Name_of_the_product16: #REF!
Name Name_of_the_product16: #REF!
Name Name_of_the_product17: #REF!
Name Name_of_the_product17: #REF!
Name Name_of_the_product18: #REF!
Name Name_of_the_product18: #REF!
Name Name_of_the_product19: #REF!
Name Name_of_the_product19: #REF!
Name Name_of_the_product2: 'Combined Report'!#REF!
Name Name_of_the_product2: '[1]Combined Report'!#REF!
Name Name_of_the_product2: #REF!
Name Name_of_the_product2: #REF!
Name Name_of_the_product20: #REF!
Name Name_of_the_product20: #REF!
Name Name_of_the_product20: #REF!
Name Name_of_the_product20: #REF!
Name Name_of_the_product3: 'Combined Report'!#REF!
Name Name_of_the_product3: '[1]Combined Report'!#REF!
Name Name_of_the_product3: #REF!
Name Name_of_the_product3: #REF!
Name Name_of_the_product4: 'Combined Report'!#REF!
Name Name_of_the_product4: '[1]Combined Report'!#REF!
Name Name_of_the_product4: #REF!
Name Name_of_the_product4: #REF!
Name Name_of_the_product5: 'Combined Report'!#REF!
Name Name_of_the_product5: '[1]Combined Report'!#REF!
Name Name_of_the_product5: #REF!
Name Name_of_the_product5: #REF!
Name Name_of_the_product6: 'Combined Report'!#REF!
Name Name_of_the_product6: '[1]Combined Report'!#REF!
Name Name_of_the_product6: #REF!
Name Name_of_the_product6: #REF!
Name Name_of_the_product7: 'Combined Report'!#REF!
Name Name_of_the_product7: '[1]Combined Report'!#REF!
Name Name_of_the_product7: #REF!
Name Name_of_the_product7: #REF!
Name Name_of_the_product8: 'Combined Report'!#REF!
Name Name_of_the_product8: '[1]Combined Report'!#REF!
Name Name_of_the_product8: #REF!
Name Name_of_the_product8: #REF!
Name Name_of_the_product9: 'Combined Report'!#REF!

Sheet Introduction
B4: Dear Customer
B5: Please fill out the Order form and Combined Report that you find in this excel sheet. You can navigate between the documents in the bottom of the window.
B8: The Order form and Combined Report should be printed and attached to the package along with the signed quotation, SDS, and TDS of the product, and also be send to customersupport@eurofins.com.
B9: If a cell has a red corner like this cell does, it means that it is either mandatory to fill out, or that there is a description of the term. Please hover over the red corner to read the description.
B10: Automatically filled out cells in the Combined Report
B11: The Combined Report is a report combining the Sampling Report and the Chain of Custody. This must be filled out, as this gives us crucial information that is mandatory for our VOC emission tests.
B12: Some fields in the Combined Report will automatically be filled out based on the information you have provided in the Order form.
B13: If this information needs to be changed in the Combined Report, you simply have to click on the field and write the new information. This is not possible for all cells.
B14: In the Combined Report some fields are filled with a light-red color. This is to indicate that you need to fill in information in these. As soon as you fill in information, the color will disapear.
B15: Procedure
B16: 1| Fill out the Order Form
B17: 2| Fill out the Combined Report
... B30: If you have any questions or comments, do not hesitate to contact us via e-mail
B31: customersupport@eurofins.com | C31: or by phone: +45 70 22 42 76 (CET: 8:00-16:00)
B32: Kind regards, Customer Support

Sheet Order form
F1: This document must be printed and shipped with the sample.
A2: Client | C2: Report to be sent to | E2: Invoice to be sent to | F2: Copy of report to be sent to
A3: Company telephone
A4: Company
A5: Address
A6: Postcode & town
A7: Country
A8: Contact person
A9: Direct telephone no.
A10: E-mail (for PDF)
A11: Invoicing E-mail
A12: VAT no. (in EU)
A13: Purchase order (PO)
A14: Comments
A16: Eurofins Quotation number (+ selected section)
A17: Eurofins contact | E17: Reporting language | F17: English (Press for options)
A19: Product name (to be stated in the report)
A20: Batch-No | D20: Product type | F20: Press for options
A21: Production date | B21: (dd/mm/yyyy) | D21: Mixing ratio, A:B (weight/weight) | F21: a:b
A22: The sample contains:
A24: Required fields for VOC emission testing in Chamber:
A25: =IF(F20="Adhesive","Worst-case application amount per layer in [g/m2] as in the TDS**",IF(F20="Flooring adhesive","Worst-case application amount per layer in [g/m2] as in the TDS**",IF(F20="Grout, organic based","Worst-case application amount per layer in [g/m2] as in the TDS**",IF(F20="Levelling compound, org. based","Worst-case application amount per layer in [g/m2] or application thickness [mm] as in the TDS**",IF(F20="Liquid fixation","Worst-case application amount per layer in [g/m2] as in the TDS**",IF(F20="Mineral- and dispersion based finishing and top plasters","Worst-case application amount per layer in [g/m2] as in the TDS**",IF(F20="Pasty fixation","Worst-case application amount per layer in [g/m2] as in the TDS**",IF(F20="Repair filler","Worst-case application amount per layer in [g/m2] or application thickness [mm] as in the TDS**",IF(F20="Tile adhesive, org. based","Worst-case application amount per layer in [g/m2] as in the TDS**",IF(F20="Wall filler","Worst-case application amount per layer in [g/m2] as in the TDS**",IF(F20="Waterproofing slurry","Worst-case application amount per layer in [g/m2] as in the TDS**","Worst-case application thickness [mm] as in the TDS**"))))))))))) -> Worst-case application thickness [mm] as in the TDS**
A26: Density (g/L)
A27: Loading scenario [m2/m3] as per intended worst-case product use; | D27: Press for options
A29: Required fields for VOC content testing (ASTM D2369 and ISO 11890 -1 or -2)
A30: Water content [g/L] | E30: Density [g/L] | F30: =IF(D26="","",D26)
A31: Solid content (ready to use) | C31: Press for options | E31: Base | F31: Press for options
A32: Product type - SCAQMD 1168 (please select from drop-down from the appropriate group)
A33: Architectural adhesive | B33: Special purpose adhesives | D33: Adhesive Primers | E33: Sealants | F33: Sealant Primers

Sheet Combined Report
G1: This document must be printed and shipped with the sample.
B2: Combined Sampling Report and Chain of Custody
B3: Name of applicant: | D3: =IF('Order form'!C4=""," ",CONCATENATE('Order form'!C8,", ",'Order form'!C4,", ",'Order form'!C5,", ",'Order form'!C6,", ",'Order form'!C7,", ",'Order form'!C3))
B4: (name, company, phone)
B5: Product information
B6: Name of the product: | C6: =IF('Order form'!D19=""," ",'Order form'!D19) | E6: Product type | F6: =IF('Order form'!F20=""," ",'Order form'!F20) -> Press for options
B7: Batch N°: | C7: =IF('Order form'!B20=""," ",'Order form'!B20) | E7: Article N°:
B8: Model / Program / Series: | E8: Manufacture: | F8: =IF('Order form'!C4=""," ",CONCATENATE('Order form'!C4,", ",'Order form'!C5,", ",'Order form'!C6,", ",'Order form'!C7))
E9: (Company, Address, Stamp)
B10: Production & Sampling information
B11: Production Date: | C11: =IF('Order form'!B21=""," ",'Order form'!B21) -> (dd/mm/yyyy) | E11: Sampling Date: | F11: (dd/mm/yyyy)
B12: Time: | E12: Time:
B13: Place of sampling | E13: Sample is taken from: | F13: 1 | G13: ongoing production
B14: (if deviating from the manufature) | F14: 1 | G14: stocks
F15: 1 | G15: retained sample
E16: Number of samples:
B17: Person in charge of sampling: | E17: Signature of sample collector:
B18: (Name, company, telephone) | E18: 1
B19: Where has the product been stored prior to sampling? | C19: 1 | D19: production | E19: How has the product been stored prior to sampling? | F19: 1 | G19: open
C20: 1 | D20: store | F20: 1 | G20: in the stack
C21: 1 | D21: miscellaneous | F21: 1 | G21: wrapped up
B22: Place of storage: | E22: Packing material:
B23: Specifics (possible negative influences by air contamination where sample was taken, by petrol emissions, by solvent emissions from production; any other uncertainties, questions, etc).
B24: Cut edges (identification of cut edges when present and identification of new surfaces and surface to be exposed in the emission test):
B26: Confirmation from the applicant
B27: Herewith the signer confirms the correctness of the data given above. The sample was selected, drawn and packed personally in accordance with the instructions for the taking of samples.
B28: Date: | C28: Signature:
C29: (Stamp)
C30: Chain of custody | G30: What is a Chain of custody?
B31: Whenever the sample is handed over, please fill out the below information
B32: Handed over between: | C32: Initials + Signature | E32: Date + Time | G32: Condition
B33: Handed over by
B34: Handed over to
B36: Handed over by
B37: Handed over to
B39: Handed over by
B40: Handed over to
B42: Laboratory receiving details (date, condition of package and sample, assigned lab no.):
B43: Receptionist, Eurofins Product Testing A/S: | E43: Signature of receptionist:

Sheet Supporting Information
A2: Customer information
A3: In the order form we ask for some information on you and your company. This information is essential to make sure that the correct information about you company is stated in the report, the correct tests are booked and that the correct person(s) receive the order confirmation, report, and invoice.
A4: Report receiver: The company and address here will be used in the report. The order confirmation and report will be sent as PDF to the e-mail written here. When the report is issued the company and address in the report canont be changed as according to our ISO 17025 accreditation. Therefore it is important that this is correct.
A5: Invoice receiver: The invoice will be sent as PDF to the e-mail address written here. If nothing is stated in this colunm, we will send the invoice to the email that is given for the report receiver.
A6: Copy of report to be sent to: If relevant, the report will be sent as PDF to the e-mail written here.
A7: Purchase order (PO): If you have a PO number that should be referred to in our invoice, please state it here. Please also send the PO to planning@eurofins.dk
A8: The Eurofins Quotation number: Always fill in the quotation number and specify which section to be considered, if not all sections.
A9: VAT number: Will only be required if this has not already been communicated to Eurofins earlier.
A10: Product data
A11: Product name: The name that will be stated in the report. When the report is issued this canont be changed as according to our ISO 17025 accreditation. Therefore it is important that this is correct.
A12: Batch-No: The batch number of the product. It will be stated in the report.
A13: Product type: Please choose the product type of the product among the predefined product types.
... A15: Mixing ratio: If the product needs to be mixed with water or another component please state it here as A : B.
B16: STANDARD | C16: WHEN TO SAMPLE? | D16: TIME FROM SAMPLING TO RECEPTION AT Eurofins | E16: MAX AGE AT TEST
B17: ISO 16000 | C17: Not specified
B18: Indoor Air Comfort | C18: As soon as possible | D18: 14 days after sampling | E18: 4 months
B19: French VOC | C19: - | D19: - | E19: Before expiration date
B20: AgBB and DIBt | C20: As soon as possible | D20: 14 days after sampling | E20: 4 months
B21: M1 | C21: As soon as possible | D21: 14 days after sampling | E21: Before expiration date should be valid over entire test period
B22: CDPH Section 01350 | C22: As soon as possible | D22: Shipment max 3 months after production | E22: 4 months after production date
B23: EMICODE | C23: As soon as possible | D23: 14 days after sampling | E23: 4 months
B24: Belgian VOC | C24: As soon as possible | D24: 14 days after sampling | E24: 4 months
B25: Italian CAM | C25: As soon as possible | D25: 14 days after sampling | E25: 4 months
B26: EN 16516 | C26: As soon as possible | D26: 14 days after sampling | E26: 4 months
B27: Blue Angel | C27: as soon as possible | E27: 4 months
A29: Combined Report: Always fill out and include the Combined report when shipping the sample for testing.
B30: What is the Combined report? The Combined report is a combination of the Sampling report and the Chain of Custody. For most of the VOC emission test standard/regulation this document is mandatory and is also our indicator on whether the sample complies with the defined time spots defined in the above table. It includes all the information each of the documents requires.
A32: Technical information
A33: Loading scenario: The loading scenario or loading factor indicates the surface on which the product is applied. The loading scenarios defined in EN 16516 are wall (1.0 m2/m3), floor/ceiling (0.4 m2/m3), small area (0.05 m2/m3) and very small area (0.007 m2/m3). Some standards allow a combination of wall and ceiling/floor (1.4 m2/m3) for certain product types. If the product can be used on multiple surfaces the ‘worst case’ or simply the biggest loading scenario should be used.
A34: Please note that some standards/regulations have specified which loading scenarios are allowed for which product types.
B35: What is the loading scenario? This definition is based on the European reference room from EN 16516. The loading scenario ‘wall’ is equal to the surface/volume ratio 1.0 m2/m3. So when we perform the test in the emission chambers, we will expose a surface of the product yielding the surface/volume ratio of 1.0 m2/m3 relative to the volume of the chamber. This would reassemble a situation where all the walls in the European reference room are covered with the specific product.
A36: Application amount/application thickness: This should be the max. Application as described in the TDS for the product. Please note that some standards have some defined criteria of how much must be applied. Depending on the product type, the unit will be shown on the order form.
A37: Solid content: In order to use the appropriate methode for VOC content testing, we need to know whether the solid content for the ready-to-use product is below or above 90%
A38: Spreading rate: The surface in m2 that one liter of the product covers.
A39: Density: The density of the product given in g/L. This information is often stated in the SDS as well.
A40: Water content: The water content in the ready-to-use product in g/L.
A41: Base: In order to use the appropriate methode for VOC content testing, we need to know whether the product is water- or solvent based.
A42: Product type for VOC content: please select the appropriate product type from the drop down menus for the relevant method.
A44: Sampling and Shipment
A45: When to sample and ship: The sample should be sampled and shipped to Eurofins Product Testing as defined in the standard. See the table on page 1 for a summary.
A46: Packaging: Wet applied products shall be dispatched in their commercial package, or in clean laboratory bottles made of glass or polyethylene. The air volume in cans and bottles shall be minimized. Please make sure that the lid is closely sealed with tape to avoid the sample from leaking during transport.
A47: Remember to secure the sample, so that it (and the packaging) does not break or get damaged during transport.
A48: You can find a video describing the packaging process on our Youtube channel: https://www.youtube.com/watch?v=qyFG9Owe6Es
A49: What to include in the shipment:
B50: - Completed order form
B51: - Completed combined report
B52: - SDS
B53: - TDS
B54: - Quotation in the shipment.
A55: If multiple samples are sent, please make sure that it is clear which order form, combined report, SDS and TDS that belongs to which sample.
B56: The samples must be shipped as DDP (delivered duty paid). If the samples are not sent as DDP we will add on a “delivery fee” of 94.50 €
A57: The sample must be shipped to the following address:
B58: Eurofins Product Testing A/S
B59: Smedeskovvej 38, Gate 9
B60: DK - 8464 Galten
B61: Att: Customer Service
B62: customersupport@eurofins.com
B63: +45 70 22 42 76
A64: If you have any questions please contact us:
A65: Email: customersupport@eurofins.com
A66: Phone: +45 70 22 42 76 (8-16 CET)

Sheet Data
A1: Loading scenario | B1: Product type - emission | C1: Architectural adhesives | D1: Special purpose adhesives | E1: Sealants | F1: Adhesive Primers | G1: Sealant Primers | N1: TEST: | P1: ALL THE SAME AS ABOVE | T1: Press for options
A2: Press for options | B2: Press for options | C2: Building Envelope Membrane Adhesive | D2: ABS to PVC Transition Cement | E2: Clear, Paintable, and Immediately Water-Resistant Sealant | F2: Plastic | G2: Marine Deck | O2: Comlims code | P2: EMISSION-TESTING | Q2: English (Press for options) | T2: Below 90%
A3: Sealant (0.007) | B3: Adhesive | C3: Carpet Pad Adhesive | D3: ABS Welding Cement | E3: Cut Edge Single Ply Roof Membrane Sealant | F3: Pressure Sensitive | G3: Modified Bituminous | N3: Indoor Air Comfort EU® | O3: PAWDB | P3: =CONCATENATE(O3, " | ",N3) -> PAWDB | Indoor Air Comfort EU® | Q3: German | T3: Above 90%
A4: Small area (0.05) | B4: Assembly Adhesive | C4: Ceramic Glass, Porcelain, & Stone Tile Adhesive | D4: All Other Plastic Welding Cements | E4: Foam Insulation | F4: Roof Adhesive Primers | G4: Non Porous sealant primer | N4: Indoor Air Comfort GOLD® | O4: PAWA1 | P4: =CONCATENATE(O4, " | ",N4) -> PAWA1 | Indoor Air Comfort GOLD® | Q4: French | T4: Press for options
A5: Ceiling / floor (0.4) | B5: Chemical Anchor | C5: Contact Adhesive | D5: CPVC Welding Cement | E5: Grout | F5: Traffic Marking Tape | G5: Porous sealant primer | J5: All Other Plastic Welding Cements | N5: AgBB, 3 + 28 days | O5: PAWA2 | P5: =CONCATENATE(O5, " | ",N5) -> PAWA2 | AgBB, 3 + 28 days | Q5: Several, as defined in Quotation | T5: Water based
A6: Wall (1.0) | B6: Flooring adhesive | C6: Cove Base Adhesive | D6: Fiberglass Adhesiv | E6: High-Pressure Two-Component Foam Sealant | F6: Vehicle Glass | G6: Roof Sealant Primers | N6: AgBB/DiBt (NIK 2018), 3 + 28 days | O6: PAW6C | P6: =CONCATENATE(O6, " | ",N6) -> PAW6C | AgBB/DiBt (NIK 2018), 3 + 28 days | T6: Solvent based
A7: Wall + ceiling / floor (1.4) | B7: Grout, cement Based | C7: Dry Wall and Panel Adhesive | D7: Metal Adhesive | E7: Low-Pressure Two-Component Foam Sealant | F7: All Other Adhesive Primers | G7: All Other Sealant Primers | N7: EMICODE | O7: PAWA5 | P7: =CONCATENATE(O7, " | ",N7) -> PAWA5 | EMICODE
A8: Wall + ceiling + floor (1.8) | B8: Grout, organic Based | C8: Edge Glue Adhesive | D8: Plastic Foam Adhesive | E8: Marine Deck Sealant | N8: Belgian Regulation | O8: PAWAA | P8: =CONCATENATE(O8, " | ",N8) -> PAWAA | Belgian Regulation
B9: Levelling compound, cement based | C9: Multi-Purpose Construction Adhesives | D9: Porous Material (except wood) Adhesiv | E9: Non-Staining Plumbing Putty | N9: M1 | O9: PAWF5 | P9: =CONCATENATE(O9, " | ",N9) -> PAWF5 | M1
B10: Levelling compound, org. based | C10: Rubber Floor Adhesive | D10: PVC Welding Cement | E10: Potable Water Sealant | N10: M1 – additional to any 28 day test | O10: PAWG4 | P10: =CONCATENATE(O10, " | ",N10) -> PAWG4 | M1 – additional to any 28 day test
B11: Liquid fixation | C11: Structural Glazing Adhesive | D11: Reinforced Plastic Composite Adhesiv | E11: Roadway Sealant | N11: French VOC label, 28 days | O11: PAWF6 | P11: =CONCATENATE(O11, " | ",N11) -> PAWF6 | French VOC label, 28 days
B12: Liquid membrane | C12: Structural Wood Member Adhesive | D12: Rubber Vulcanization Adhesive | E12: Single Ply Roof Membrane Sealant | I12: All Other Roof Sealants | N12: French VOC label + CMR, 28 days | O12: PAWJP | P12: =CONCATENATE(O12, " | ",N12) -> PAWJP | French VOC label + CMR, 28 days
B13: Mineral- and dispersion based finishing and top plasters | C13: Subfloor Adhesive | D13: Special Purpose Contact Adhesive | E13: All Other Architectural Sealants | N13: French VOC label, 3 + 28 days | O13: PAW8T | P13: =CONCATENATE(O13, " | ",N13) -> PAW8T | French VOC label, 3 + 28 days
B14: Mineral- and gypsum based base plasters | C14: Wood Flooring Adhesive | D14: Thin Metal Laminating Adhesive | E14: All Other Roof Sealants | N14: French VOC label + CMR, 3 + 28 days | O14: PAWQ6 | P14: =CONCATENATE(O14, " | ",N14) -> PAWQ6 | French VOC label + CMR, 3 + 28 days
B15: Pasty fixation | C15: All Other Adhesives | D15: Tire Tread Adhesive | E15: All Other Sealants | N15: Italian CAM | O15: PAWID | P15: =CONCATENATE(O15, " | ",N15) -> PAWID | Italian CAM
B16: Repair filler | C16: All Other Indoor Floor Covering Adhesives | D16: Top and Trim Adhesive | N16: Additional testing of 10 largest components for French VOC | O16: AWV99 | P16: =CONCATENATE(O16, " | ",N16) -> AWV99 | Additional testing of 10 largest components for French VOC
B17: Screed | C17: All Other Outdoor Floor Covering Adhesives | D17: VCT and Asphalt Tile Adhesive | N17: CDPH Section 01350 | O17: PAWE7 | P17: =CONCATENATE(O17, " | ",N17) -> PAWE7 | CDPH Section 01350
B18: Sealant | C18: All Other Adhesives | D18: Waterproof Resorcinol Glue | N18: CDPH Section 01350 – additional to any 28 day test | O18: PAWG5 | P18: =CONCATENATE(O18, " | ",N18) -> PAWG5 | CDPH Section 01350 – additional to any 28 day test
B19: Tile adhesive, cement based | C19: All Other Indoor Floor Covering Adhesives | D19: Wood Adhesiv | N19: ISO 16000, 3 + 28 days, VOC + aldehydes | O19: PAWB5 | P19: =CONCATENATE(O19, " | ",N19) -> PAWB5 | ISO 16000, 3 + 28 days, VOC + aldehydes
B20: Wall filler | C20: All Other Outdoor Floor Covering Adhesives | N20: ISO 16000, 28 days, VOC + aldehydes | O20: PAWKG | P20: =CONCATENATE(O20, " | ",N20) -> PAWKG | ISO 16000, 28 days, VOC + aldehydes
B21: Waterproofing slurry | N21: ISO 16000, 3 days, VOC + aldehydes | O21: PAWB6 | P21: =CONCATENATE(O21, " | ",N21) -> PAWB6 | ISO 16000, 3 days, VOC + aldehydes
N22: ISO 16000, 3 + 28 days, VOC | O22: PAWW3 | P22: =CONCATENATE(O22, " | ",N22) -> PAWW3 | ISO 16000, 3 + 28 days, VOC
N23: ISO 16000, 28 days, VOC | O23: PAWDF | P23: =CONCATENATE(O23, " | ",N23) -> PAWDF | ISO 16000, 28 days, VOC
N24: ISO 16000, 3 days, VOC | O24: PAWB9 | P24: =CONCATENATE(O24, " | ",N24) -> PAWB9 | ISO 16000, 3 days, VOC
N25: ISO 16000, 3 + 28 days, formaldehyde | O25: PAWB8 | P25: =CONCATENATE(O25, " | ",N25) -> PAWB8 | ISO 16000, 3 + 28 days, formaldehyde
N26: ISO 16000, 28 days, formaldehyde | O26: PAWSH | P26: =CONCATENATE(O26, " | ",N26) -> PAWSH | ISO 16000, 28 days, formaldehyde
N27: ISO 16000, 3 days, formaldehyde | O27: PAWB7 | P27: =CONCATENATE(O27, " | ",N27) -> PAWB7 | ISO 16000, 3 days, formaldehyde
N28: EN 16516, 3 + 28 days, VOC + aldehydes | O28: PAW5U | P28: =CONCATENATE(O28, " | ",N28) -> PAW5U | EN 16516, 3 + 28 days, VOC + aldehydes
N29: EN 16516, 3 days, VOC + aldehydes | O29: PAW5W | P29: =CONCATENATE(O29, " | ",N29) -> PAW5W | EN 16516, 3 days, VOC + aldehydes
N30: EN 16516, 28 days, VOC + aldehydes | O30: PAW6W | P30: =CONCATENATE(O30, " | ",N30) -> PAW6W | EN 16516, 28 days, VOC + aldehydes
N31: EN 16516, 28 days, formaldehyde | O31: PAWAR | P31: =CONCATENATE(O31, " | ",N31) -> PAWAR | EN 16516, 28 days, formaldehyde
N32: EN 16516, 3 days, VOC | O32: PAWDB | P32: =CONCATENATE(O32, " | ",N32) -> PAWDB | EN 16516, 3 days, VOC
N33: EN 16516, 28 days, VOC | O33: PAW6J | P33: =CONCATENATE(O33, " | ",N33) -> PAW6J | EN 16516, 28 days, VOC
... N37: Cradle to Cradle | O37: PAWE9 | P37: =CONCATENATE(O37, " | ",N37) -> PAWE9 | Cradle to Cradle
P38: ____________________
N39: VOC Specialty Emission Tests | O39: Comlims code | P39: VOC SPECIALTY EMISSION TEST
N40: Microchamber, aldehydes | O40: PAW1S | P40: =CONCATENATE(O40, " | ",N40) -> PAW1S | Microchamber, aldehydes
N41: Microchamber, VOCs | O41: PAW1N | P41: =CONCATENATE(O41, " | ",N41) -> PAW1N | Microchamber, VOCs
N42: Microchamber, VVOCs | O42: PAW1R | P42: =CONCATENATE(O42, " | ",N42) -> PAW1R | Microchamber, VVOCs
N43: Thermoextractor, aldehydes | O43: PAW5I | P43: =CONCATENATE(O43, " | ",N43) -> PAW5I | Thermoextractor, aldehydes
N44: Thermoextractor, VOCs | O44: PAW5G | P44: =CONCATENATE(O44, " | ",N44) -> PAW5G | Thermoextractor, VOCs
N45: Thermoextractor, VVOCs | O45: PAW5H | P45: =CONCATENATE(O45, " | ",N45) -> PAW5H | Thermoextractor, VVOCs
P46: ____________________
N47: VOC Content Tests | P47: VOC CONTENT TEST
N48: ISO 11890-1 | O48: PAW6U | P48: =CONCATENATE(O48, " | ",N48) -> PAW6U | ISO 11890-1
N49: ASTM D2369 (Gravimetric) | O49: PAW6N | P49: =CONCATENATE(O49, " | ",N49) -> PAW6N | ASTM D2369 (Gravimetric)
N50: ISO 11890-2 (GC/MS-FID): VOC | O50: AW11T | P50: =CONCATENATE(O50, " | ",N50) -> AW11T | ISO 11890-2 (GC/MS-FID): VOC
N51: ISO 11890-2 (GC/MS-FID): SVOC | O51: AW17A | P51: =CONCATENATE(O51, " | ",N51) -> AW17A | ISO 11890-2 (GC/MS-FID): SVOC
N52: ISO 11890-2 (GC/MS-FID): VOC+SVOC | O52: AW1A0 | P52: =CONCATENATE(O52, " | ",N52) -> AW1A0 | ISO 11890-2 (GC/MS-FID): VOC+SVOC
N53: Formaldehyde content according to VdL-RL03 (modified) | O53: AW1SW | P53: =CONCATENATE(O53, " | ",N53) -> AW1SW | Formaldehyde content according to VdL-RL03 (modified)
N54: Density | O54: AW11V | P54: =CONCATENATE(O54, " | ",N54) -> AW11V | Density
N55: Water content | O55: SZ206 | P55: =CONCATENATE(O55, " | ",N55) -> SZ206 | Water content
P56: __________________________
P57: ADD-ONS
N58: Preliminary test results after 3 days samplings | O58: AW1D3 | P58: =CONCATENATE(O58, " | ",N58) -> AW1D3 | Preliminary test results after 3 days samplings
N59: AgBB attestation | O59: AW1GW | P59: =CONCATENATE(O59, " | ",N59) -> AW1GW | AgBB attestation
N60: Belgian Regulation attestation | O60: AW1GZ | P60: =CONCATENATE(O60, " | ",N60) -> AW1GZ | Belgian Regulation attestation
N61: French VOC label attestation | O61: AW1GX | P61: =CONCATENATE(O61, " | ",N61) -> AW1GX | French VOC label attestation
N62: Italian CAM attestation | O62: AW24V | P62: =CONCATENATE(O62, " | ",N62) -> AW24V | Italian CAM attestation
N63: CDPH 01350 attestation | O63: AW1M3 | P63: =CONCATENATE(O63, " | ",N63) -> AW1M3 | CDPH 01350 attestation
N64: LEED confirmation (outside North America) | O64: AW1H0 | P64: =CONCATENATE(O64, " | ",N64) -> AW1H0 | LEED confirmation (outside North America)
N65: EMICODE attestation | O65: AW1H1 | P65: =CONCATENATE(O65, " | ",N65) -> AW1H1 | EMICODE attestation
N66: WELL Attestation | O66: AW24S | P66: =CONCATENATE(O66, " | ",N66) -> AW24S | WELL Attestation
N67: BREEAM Int. Attestation | O67: AW1JV | P67: =CONCATENATE(O67, " | ",N67) -> AW1JV | BREEAM Int. Attestation
